BEGIN:VCALENDAR
VERSION:2.0
PRODID:Evento - TEC
BEGIN:VEVENT
UID:125666
DTSTAMP:20260423T234740Z
DTSTART:20220301T180000Z
DTEND:20220301T190000Z
SUMMARY:Ceremonia Premio Mujer Tec 2022
LOCATION:
DESCRIPTION:<p>En ocasión del Día Internacional de la Mujer, el 8 de marzo, el Tecnológico de Monterrey entrega el&nbsp;<strong>Premio Mujer Tec 2022&nbsp;</strong>para&nbsp;<strong>reconocer el trabajo destacado&nbsp;</strong>de las integrantes de su comunidad.</p>

<p>¡Conoce a las <a href="https://tec.mx/es/noticias/nacional/institucion/destacadas-tec-anuncia-ganadoras-del-premio-mujer-tec-2022">ganadoras </a>de este año!</p>

<p><strong>Entra a: <a href="https://live.tec.mx/">live.tec.mx</a></strong></p>

END:VEVENT
END:VCALENDAR