BEGIN:VCALENDAR
VERSION:2.0
PRODID:Evento - TEC
BEGIN:VEVENT
UID:113811
DTSTAMP:20260424T085712Z
DTSTART:20211130T050001Z
DTEND:20211201T045959Z
SUMMARY:#UnDíaParaDar! Un movimiento creado para hacer el bien
LOCATION:
DESCRIPTION:<p>¡Nos sumamos a <strong>#UnDíaParaDar</strong> y te invitamos a que te unas a este movimiento!</p>

<p>La <strong>generosidad </strong>nos genera bienestar, al vivirla, impulsamos causas sociales que nos inspiran y generan una mejor sociedad.</p>

<p>El próximo <strong>30 de noviembre, </strong>nos sumamos al movimiento internacional de <strong>#UnDíaParaDar</strong> y ¡queremos que tú seas parte! A<strong>yúdanos a inspirar a más personas a unirse</strong> y vivir con nosotros la <strong>filantropía</strong>.</p>

<p>Puedes realizar un <a href="https://contentfilantropia.tec.mx/un-dia-para-dar">donatívo aquí.</a></p>

END:VEVENT
END:VCALENDAR