BEGIN:VCALENDAR
VERSION:2.0
PRODID:Evento - TEC
BEGIN:VEVENT
UID:113741
DTSTAMP:20260424T102029Z
DTSTART:20211119T050000Z
DTEND:20211127T045959Z
SUMMARY:¡Aprovecha descuento en #BorregosThinkFeelRun!
LOCATION:
DESCRIPTION:<div class="css-1dbjc4n">
<div class="css-1dbjc4n r-1s2bzr4">
<div class="css-901oao r-16dba41 r-1blvdjr r-1fmj7o5 r-37j5jr r-bcqeeo r-bnwqim r-qvutc0 r-vrz42v" dir="auto" lang="es"><span>¡Quedan pocos días! Aprovecha el descuento por el 76 aniversario de Borregos en la compra de tu kit básico </span><span><a dir="ltr" href="https://twitter.com/hashtag/BorregosThinkFeelRun?src=hashtag_click">#BorregosThinkFeelRun</a>... Solo cuesta <strong>$50 pesos.</strong></span></div>

<div class="css-901oao r-16dba41 r-1blvdjr r-1fmj7o5 r-37j5jr r-bcqeeo r-bnwqim r-qvutc0 r-vrz42v" dir="auto" lang="es">&nbsp;</div>

<div class="css-901oao r-16dba41 r-1blvdjr r-1fmj7o5 r-37j5jr r-bcqeeo r-bnwqim r-qvutc0 r-vrz42v" dir="auto" lang="es">Carrera virtual en "app" Trotime"; presencial para estudiantes y colaboradores en campus participantes,&nbsp;en las modalidades de 1, 3, 5 o 10 km.</div>

<div class="css-901oao r-16dba41 r-1blvdjr r-1fmj7o5 r-37j5jr r-bcqeeo r-bnwqim r-qvutc0 r-vrz42v" dir="auto" lang="es">&nbsp;</div>

<div class="css-901oao r-16dba41 r-1blvdjr r-1fmj7o5 r-37j5jr r-bcqeeo r-bnwqim r-qvutc0 r-vrz42v" dir="auto" lang="es"><span>¿Qué esperas para inscribirte? Conoce la convocatoria:&nbsp;</span><a dir="ltr" href="https://t.co/r4EYISFEoT?amp=1"><span>https://</span>bit.ly/borregostfr</a><span>&nbsp;</span></div>
</div>
</div>

END:VEVENT
END:VCALENDAR