BEGIN:VCALENDAR
VERSION:2.0
PRODID:Evento - TEC
BEGIN:VEVENT
UID:105461
DTSTAMP:20260425T205708Z
DTSTART:20211001T210000Z
DTEND:20211002T000000Z
SUMMARY:Inauguración de las instalaciones del Laboratorio Arte AC | Actividad presencial
LOCATION:Centro Comunitario Casa Naranjos de DistritoTec.  Cipreses 2601, Cerro de La Silla, 64810 Monterrey, N. L. 
DESCRIPTION:<p>Se presentará a la comunidad la sede del <strong>Laboratorio Arte AC.</strong>&nbsp;</p>

<p>El lugar está diseñado como espacio versátil de trabajo para la producción de proyectos multidisciplinarios que entrecruzan <strong>arte, ciencia y tecnología.</strong></p>

<p>El evento tendrá recorridos guiados por las instalaciones, ubicado en el&nbsp;<strong>Centro Comunitario Casa Naranjos</strong> de DistritoTec.<br />
<br />
El&nbsp;evento será este 1 de octubre a las 18:00 horas.</p>

<p>Registro previo en&nbsp;<a href="https://bit.ly/inauguracionlabarteac">https://bit.ly/inauguracionlabarteac</a></p>

<p><br />
El Laboratorio Arte A. C. es un esfuerzo conjunto del Instituto Arte AC y el Tecnológico de Monterrey con el apoyo de Fundación FEMSA.</p>

END:VEVENT
END:VCALENDAR