BEGIN:VCALENDAR
VERSION:2.0
PRODID:Evento - TEC
BEGIN:VEVENT
UID:105456
DTSTAMP:20260425T205702Z
DTSTART:20211105T230000Z
DTEND:20211106T010000Z
SUMMARY:Inauguración del Pabellón Expositivo del Laboratorio de Arte AC | Actividad presencial
LOCATION:Parque Central del Tecnológico de Monterrey  (Av. Junco de la Vega, 200 metros antes de Av. Luis Elizondo)
DESCRIPTION:<p>El <strong>Laboratorio Arte AC</strong> te invita al evento con el que inauguramos formalmente nuestro <strong>Pabellón Expositivo</strong> en el <strong>Parque Central </strong>del Tecnológico de Monterrey.</p>

<p>Este día ofreceremos un<strong> cóctel de bienvenida</strong> y aprovecharemos para compartir con la comunidad universitaria y artística este espacio que estará acompañado de una agenda de<strong> intervenciones e instalaciones artísticas </strong>en el parque.</p>

<p>Para esta ocasión, se presenta el <strong>proyecto “Wavesense”</strong>, ganador de la convocatoria nacional Fondo Creativo, que explora la distancia física y afectiva del encierro por medio de un soft robot y el escaneo de ondas cerebrales.</p>

<p>El&nbsp;evento será este<strong> 5&nbsp;de noviembre&nbsp;a </strong>las 18:00 horas.</p>

<p>Registro previo en&nbsp;<a href="https://bit.ly/pabellonlabarteac">https://bit.ly/pabellonlabarteac</a></p>

END:VEVENT
END:VCALENDAR