BEGIN:VCALENDAR
VERSION:2.0
PRODID:Evento - TEC
BEGIN:VEVENT
UID:105276
DTSTAMP:20260425T205705Z
DTSTART:20210928T230000Z
DTEND:20210929T000000Z
SUMMARY:Recorridos guiados por proyectos visuales de Tania Candiani y Ale de la Puente
LOCATION:
DESCRIPTION:<p>Recorridos virtuales en <strong>videojuegos Sandbox</strong>, tales como <em>Animal Crossing, Minecraft, The Sims y Fortnite</em>, para conocer los proyectos desarrollados dentro de los espacios virtuales, por las reconocidas artistas mexicanas <strong>Tania Candiani </strong>y&nbsp;<strong>Ale de la Puente</strong>&nbsp;como artistas residentes del Laboratorio Arte A.C.</p>

<p>&nbsp;</p>

<p><a href="https://www.youtube.com/laboratorioarteac">Conéctate aquí&nbsp;</a>a esta actividad en línea este 28 de septiembre a las 8&nbsp;PM hora central&nbsp;</p>

<p><a href="https://www.youtube.com/laboratorioarteac">youtube.com/laboratorioarteac</a></p>

END:VEVENT
END:VCALENDAR