BEGIN:VCALENDAR
VERSION:2.0
PRODID:Evento - TEC
BEGIN:VEVENT
UID:105271
DTSTAMP:20260425T205709Z
DTSTART:20210928T220000Z
DTEND:20210928T230000Z
SUMMARY:Mesa redonda Laboratorio Arte AC sobre la escena artística actual en Nuevo León 
LOCATION:
DESCRIPTION:<p>En el marco del <strong>Festival Santa Lucía,</strong> se llevará a cabo esta mesa redonda en la que s<span><span>e analizará la <strong>escena artística actual en Nuevo León</strong> y el papel del <strong>Laboratorio de Arte, Ciencia y Tecnología Arte AC</strong> en este contexto.</span></span></p>

<p>Participan:</p>

<p>- Ernesto Walker, director del Laboratorio Arte AC.</p>

<p>- Miguel González Virgen, director de la iniciativa de Artes en la Región Norte del Tec de Monterrey</p>

<p>- Representantes de la comunidad artística nuevoleonesa.</p>

<p>&nbsp;</p>

<p><span><span><a href="https://www.youtube.com/laboratorioarteac">Conéctate aquí </a>este 28 de septiembre a las 7 PM hora central&nbsp;</span></span></p>

<p><a href="https://www.youtube.com/laboratorioarteac">youtube.com/laboratorioarteac</a></p>

<p>&nbsp;</p>

END:VEVENT
END:VCALENDAR