BEGIN:VCALENDAR
VERSION:2.0
PRODID:Evento - TEC
BEGIN:VEVENT
UID:105221
DTSTAMP:20260425T205706Z
DTSTART:20210927T210000Z
DTEND:20210928T150000Z
SUMMARY:Conferencia Anual de University Global Coalition
LOCATION:
DESCRIPTION:<p>El <a href="https://tec.mx/es">Tecnológico de Monterrey</a>, como miembro y actor activo de la <strong>University Global Coalition (UGC),</strong> te invita&nbsp;a la Conferencia Anual de UGC que se celebrará el 27 y 28 de septiembre de 2021.</p>

<p>Esta conferencia es para empoderar a las personas y las universidades para que actúen sobre los <strong>Objetivos de Desarrollo Sostenible (ODS)</strong>, con un enfoque en aumentar la accesibilidad, reconstruir un mundo más justo y equitativo y hacer crecer las generaciones futuras de líderes.</p>

<p>27 de septiembre: de 6 a 9 PM, hora central.</p>

<p>28 de septiembre: 8 am a 12 PM, hora central.</p>

<p>&nbsp;</p>

<p><strong><span><span><span><span><span><span>Regístrate aquí: </span></span></span></span></span></span></strong><a href="https://universityglobalcoalition.org/annual-gathering"><span><span><span><span><span><span>https://universityglobalcoalition.org/annual-gathering</span></span></span></span></span></span></a><span><span><span><span><span><span>&nbsp;</span></span></span></span></span></span></p>

<p>&nbsp;</p>

<p>&nbsp;</p>

END:VEVENT
END:VCALENDAR