BEGIN:VCALENDAR
VERSION:2.0
PRODID:Evento - TEC
BEGIN:VEVENT
UID:104316
DTSTAMP:20260425T205700Z
DTSTART:20210908T220000Z
DTEND:20210909T000000Z
SUMMARY:La comunicación que cautiva, con Gaby Vargas | Conferencia en línea
LOCATION:
DESCRIPTION:<p>En esta conferencia, <strong>conoce de la mano de Gaby Vargas </strong>cómo desarrollar tu <strong>asertividad </strong>para orinetarla a <strong>mejorar tus relaciones</strong> interpersonales en lo personal y profesional. <strong>¡Descifra los mensajes ocultos</strong> de la personalidad de otros y alcanza una vida exitosa basada en la convivencia y la observación!</p>

<p>Regístrate en la liga:</p>

<h3><strong><a href="https://bit.ly/PIEGabyVargas"><span>https://bit.ly/PIEGabyVargas</span></a></strong></h3>

END:VEVENT
END:VCALENDAR