BEGIN:VCALENDAR
VERSION:2.0
PRODID:Evento - TEC
BEGIN:VEVENT
UID:104306
DTSTAMP:20260425T205710Z
DTSTART:20210908T160000Z
DTEND:20210908T170000Z
SUMMARY:Lanzamiento del Centro de Empresas Conscientes
LOCATION:
DESCRIPTION:<p>El mundo de hoy demanda&nbsp;<strong>líderes, empresas y organizaciones conscientes</strong>&nbsp;que construyan&nbsp;<strong>sociedades más prósperas, justas e incluyentes.</strong>&nbsp;</p>

<p>Te invitamos al&nbsp;<strong>lanzamiento</strong>&nbsp;del proyecto del Tec que impulsa esto: nuestro&nbsp;<strong>Centro de Empresas Conscientes.&nbsp;</strong></p>

<p>Conferencia:&nbsp;<strong>“Rumbo al Capitalismo Consciente” de Raj Sisodia,&nbsp;</strong>Distinguished University Professor of Conscious Enterprise, del Tecnológico de Monterrey.</p>

<p>Súmate <a href="https://live.tec.mx/">aquí </a>en el día y hora del evento.<br />
&nbsp;</p>

<p>O agéndalo en tus calendarios:</p>

<p><a href="https://egresados.exatec.tec.mx/cs/c/?cta_guid=f57c44c3-7f4c-489b-b43e-f2cc798c5e42&amp;signature=AAH58kHnNmRkrf24oO7kSJbt-dRw3LMyUQ&amp;placement_guid=d9c03c6f-f9cb-4d74-9268-202b5e211d42&amp;click=145692ff-1be2-4e19-8f4a-933b8ab4f4d5&amp;hsutk=fbdc573b3dfebed3118d232e973d9272&amp;canon=https%3A%2F%2Ftec.mx%2Fes%2Fnode%2F103966&amp;utm_referrer=https%3A%2F%2Ftec.mx%2Fes%2Fexatec%2Feventos&amp;portal_id=4606735&amp;redirect_url=APefjpHI_ilv6M9hpur8YDPm-5Q8db9QhECKSlOl73CSZskpDCauxKsAKeDIAWhb4oYN1JJh6unXwvKEvZGmMr2quLPJspUT-dvaYxFFCYKT2CGs4FZa4_ATQ3XOksy7J5_p2Od5SSc99tR2hR3-Dsq8mopSzaUt-n7Mx52m3Wg7DAfXLL1-Bt8aNcudnDBqt-fQzI45ech8vo5AjEzvqiV8Z4e6h0bOWH23BSQgit7aS4fBY5elKRxM-h6AD3czR5nNNlwbI6TDTvFKTSu6JcRzi4dFUHeX27yEMiK2jL7OcgEpOtywguebjGdkkfKoSCqmOYFS0T35XGRLvYO3oBo_1YG9qr7JeB5ymNug0UmkT7CKCJORMEs&amp;__hstc=115681945.fbdc573b3dfebed3118d232e973d9272.1627321413506.1630950337766.1630958906312.218&amp;__hssc=115681945.21.1630958906312&amp;__hsfp=1865500357">Outlook o Calendar (iOS)</a></p>

<p><a href="https://egresados.exatec.tec.mx/cs/c/?cta_guid=3360f4d3-a15c-4724-921b-3d581e50c654&amp;signature=AAH58kHNkMH5Ye80b2Aaa4vRqiw5PL-feA&amp;placement_guid=fc9f8cf4-0357-43ec-95a2-43bd2e24e042&amp;click=dd10511e-e84e-4956-8398-adbd1dfe925a&amp;hsutk=fbdc573b3dfebed3118d232e973d9272&amp;canon=https%3A%2F%2Ftec.mx%2Fes%2Fnode%2F103966&amp;utm_referrer=https%3A%2F%2Ftec.mx%2Fes%2Fexatec%2Feventos&amp;portal_id=4606735&amp;redirect_url=APefjpHYzBeArs3aUi3VWYX3cRDlS1urb-KZSbmh6Ya9ZMeah2pziInefWgrntQaIboRsHgSwXsmBaStPayCwr9mgYtG7Qffetf0YVmY6WsQMvUJ-wm_UXs10wtVpket-XIiT8RZY4lZzLu7IO_HiuHo06Ierfoz3r-g4kgsZOL7EDKSCMt_iNBAg8O7vPNhJH2TgIdgb5G6k1h6UDp6Hq-10ZuAEwPISlO_cyHMDoKAc90MyZ2C9o_wW1aXkCTfpYfjVYxENn5F6ftDCPPI5ercVXJUPNPBC5laZSp4g-HaaQfKfe8VlgH7mbuMebMx_xtVKt-0S4i6lxNT1JBMEG1qn_E3l2F6S1xCVjlmndLagLMoiMXYp6vcL88cKpYUOIu1qxylmngECvezxMLnDpmhPAcLLMfMBu0sQW46N9-raUUAVrnYmJMgNuPVprzqLUvUqZn-fKHJaymtEs7Qov8pv7N9huArrAH2AyqUEg3_Y1OCsKyNSj0&amp;__hstc=115681945.fbdc573b3dfebed3118d232e973d9272.1627321413506.1630950337766.1630958906312.218&amp;__hssc=115681945.21.1630958906312&amp;__hsfp=1865500357">Google Calendar</a></p>

END:VEVENT
END:VCALENDAR