BEGIN:VCALENDAR
VERSION:2.0
PRODID:Evento - TEC
BEGIN:VEVENT
UID:104161
DTSTAMP:20260425T050441Z
DTSTART:20210906T100000Z
DTEND:20210930T025959Z
SUMMARY:Torneo nacional Borregos Esports Invitational 
LOCATION:
DESCRIPTION:<p><strong>Borregos Esports Invitational </strong>es el primer torneo de <strong>Fortnite </strong>organizado por el Tec, en el que se busca invitar a participar a la comunidad Tec&nbsp;de secundaria, preparatoria, profesional y posgrado, así como a estudiantes de la comunidad externa entre 12 y 25 años.</p>

<p><strong>- Convocatoria y registro:</strong> 6 -29 de septiembre</p>

<p><a href="https://bit.ly/registroinvitational">Regístrate aquí.</a></p>

<p><strong>-Competencia: </strong>4 -22 de octubre*</p>

<p><strong>-Categorías:</strong><br />
Azul: 12-17 años</p>

<p>Roja: 18-25 años</p>

<p>-Premios:<br />
1er lugar: Laptop Alienware con valor de $40 mil pesos.&nbsp;<br />
2do lugar: Monitor + teclado + mouse Alienware con valor de más de&nbsp;$23 mil pesos.<br />
3er lugar: Monitor alienware con valor de más de $10 mil pesos,</p>

<p>Habrá&nbsp;<strong><em>influencers </em>invitados </strong>en las transmisiones, así como en un <em>showmatch </em>con participantes del torneo en un encuentro amistoso.</p>

<p>&nbsp;</p>

<p>&nbsp;</p>

END:VEVENT
END:VCALENDAR