BEGIN:VCALENDAR
VERSION:2.0
PRODID:Evento - TEC
BEGIN:VEVENT
UID:104156
DTSTAMP:20260425T205707Z
DTSTART:20210906T160000Z
DTEND:20210906T170000Z
SUMMARY:78 aniversario del Tec | Ceremonia de las Campanadas
LOCATION:
DESCRIPTION:<p>¡Te invitamos a celebrar el 78° Aniversario del Tecnológico de Monterrey!</p>

<p><a href="https://live.tec.mx/">Conéctate aquí </a>en el día y la hora para celebrar este momento.</p>

<p><br />
Agenda este evento en tus calendarios:</p>

<p><a href="https://egresados.exatec.tec.mx/cs/c/?cta_guid=ade6134b-17ab-4b17-82da-08a973514bb8&amp;signature=AAH58kF7IBab_DNnMm4Jf-eOohdtP2M-UQ&amp;placement_guid=df0995ff-4f4d-4d1d-b141-3d8d7e9c3651&amp;click=05964adc-85fc-4f53-8b1d-91c888bd74a8&amp;hsutk=fbdc573b3dfebed3118d232e973d9272&amp;canon=https%3A%2F%2Ftec.mx%2Fes%2Fnode%2F103951&amp;utm_referrer=https%3A%2F%2Ftec.mx%2Fes%2Fexatec%2Feventos&amp;portal_id=4606735&amp;redirect_url=APefjpFEtRdSnWjHWf5QUK0FdjrXoGmTpPhGK7GR14-lkzFhd_d7LqGmNvtZk9akxPoJbIpcB1K9Fi_9omjLPTS6JYJL68pS9h1GNlQ6ctDxIYO4sL3z2WIOuhWaocx1hQ6pZ0ruSG-yxyExTWTl-HLwczatTDcs69p-dNbtFq-zIdW0wXkyKtmwcyPtJs_D2vrHbDsVNxSglc7w0rujPL2ax2QB6htgtNKJceX6EEh5utrQmpC6QAbX3If_URXUDZbwhFhvm17H1A5CneTbImPM0z3qxYVHsNg9nM-Mz9AgGhhibjPArsRIe8gt2-hwrLSDca3rug6U_Lr7gkSsYP0SVNpZwt2nB6Hud4JVyQowH_hfIXviYsgmzjPRHjFPfFKPB5_bL1ir&amp;__hstc=115681945.fbdc573b3dfebed3118d232e973d9272.1627321413506.1630509401405.1630515602129.202&amp;__hssc=115681945.8.1630515602129&amp;__hsfp=1865500357">Outlook o Calendar (iOS)</a></p>

<p><a href="https://egresados.exatec.tec.mx/cs/c/?cta_guid=f6c197af-8f8b-4255-a9a6-a52aecce94c1&amp;signature=AAH58kGuNERwcH6BIrw1bfi6P0wCX2c8CA&amp;placement_guid=b5b7016a-4950-48c7-b830-81647f32677e&amp;click=225a3db3-2bea-434c-983f-102a35d2b844&amp;hsutk=fbdc573b3dfebed3118d232e973d9272&amp;canon=https%3A%2F%2Ftec.mx%2Fes%2Fnode%2F103951&amp;utm_referrer=https%3A%2F%2Ftec.mx%2Fes%2Fexatec%2Feventos&amp;portal_id=4606735&amp;redirect_url=APefjpFNBgZECaCvbXSn-hjOB6cSHMuZyCQ5o0YnKFfNL5gGzarI574dmAar-Y1uX7O9SJDq_JuM-ITEBuWrl46AICHzkDa7-xYniJzM4vfhYeeDc-G3SB1zYrpcIc6kgoQAjzsyQHbEN7ThLF3WVQSq57mbAxJvMK8xjOJubIfrMTSYT-oZNPdMKm0dHWMrG0OPWDyf5PvorbEUvckMFsZz9KMTLDe_nX4Ck_fOh8JKZcBMFeopVvjnNBomOMCtySPc0N02TeluTmzAOx7Y4v0DRKqu27Frb7taM2uzRNlqIYSub3jBK_b5UmsqmETn9VfFHdhh3S1qV4SYbfQVflEM7Y6vBp-sc1AW77KtK_4DAhXiQ9C0vTxQGJiC0bZHcRi15YPT9xDPAadnfexwSAn32jVLG7Vtp8wamnqsHeOikU3IoIa_A-q3q4av3OCLkAEQabByix6QjYTc22wGBKfyIeav6FqcmsICC7dmFcTcaSg_0iejvYs&amp;__hstc=115681945.fbdc573b3dfebed3118d232e973d9272.1627321413506.1630509401405.1630515602129.202&amp;__hssc=115681945.8.1630515602129&amp;__hsfp=1865500357">Google Calendar</a><br />
<br />
&nbsp;</p>

<p><strong>Programa</strong></p>

<p>13:00 h -&nbsp;<em>Countdown.</em></p>

<p>13:05 h -&nbsp;<em>Opening.</em></p>

<p>13:10 h - Bienvenida.</p>

<p>13:13 h - Presentación de&nbsp;invitados.</p>

<p>13:15 h - Testimoniales.</p>

<p>13:20 h - Historia del Campanario.</p>

<p>13:27 h - Video de las Campanadas.</p>

<p>13:32 h - Palabras David Garza, Rector y Presidente Ejecutivo del Tecnológico de Monterrey.</p>

<p>13:37 h - Despedida.</p>

<p>13:40 h - Espectáculo de cierre.</p>

END:VEVENT
END:VCALENDAR