BEGIN:VCALENDAR
VERSION:2.0
PRODID:Evento - TEC
BEGIN:VEVENT
UID:102661
DTSTAMP:20260424T102026Z
DTSTART:20210923T210000Z
DTEND:20210923T223000Z
SUMMARY:EXATEC Fest 2021
LOCATION:
DESCRIPTION:<p><span><span><span><strong>Celebración virtual </strong>para nuestra comunidad de egresados, sus familiares y amigos, para fortalecer los lazos con nuestra <strong>alma mater.</strong></span></span></span></p>

<p><span><span><span>Para información, haz <a href="https://tec.mx/es/exatec/exatec-fest">clic aquí.</a></span></span></span></p>

END:VEVENT
END:VCALENDAR