BEGIN:VCALENDAR
VERSION:2.0
PRODID:Evento - TEC
BEGIN:VEVENT
UID:102481
DTSTAMP:20260424T102033Z
DTSTART:20210804T100000Z
DTEND:20210804T231500Z
SUMMARY:Conócete a través de la grafología | Conferencia con Maryfer Centeno
LOCATION:
DESCRIPTION:<p><span><span><span><span><span><span><span><span><span><span><span><span><span><span><span><span><span><span><span><span><strong>¿Quién eres, qué sabes hacer bien?&nbsp;</strong>Carácter, inteligencia, temperamento, mentiras:&nbsp;¡conócete a ti y a los demás!&nbsp;<strong>Descubre lo que revela&nbsp;tu letra con Maryfer Centeno.</strong></span></span></span></span></span></span></span></span></span></span></span></span></span></span></span></span></span></span></span></span></p>

<p><span><span><span><span><span><span><span><span><span><span><span><span><span><span><span><span><span><span><span><span>Se pide a los participantes&nbsp;que tengan a la mano hojas en blanco y una pluma.</span></span></span></span></span></span></span></span></span></span></span></span></span></span></span></span></span></span></span></span></p>

<p><span><span><span><span><span><span><span><span><span><span><span><span><span><span><span><span><span><span><span><span>Durante la conferencia, se les pedirá escribir y analizar los rasgos de su personalidad. </span></span></span></span></span></span></span></span></span></span></span></span></span></span></span></span></span></span></span></span></p>

<p><span><span><span><span><span><span><span><span><span><span><span><span><span><span><span><span><span><span><span><span>L</span></span></span></span></span></span></span></span></span></span></span></span></span></span></span></span></span></span></span></span><span><span><span><span><span><span><span><span><span><span><span><span><span><span><span><span><span><span><span><span>a conferencia genera mucha interacción con los participantes.</span></span></span></span></span></span></span></span></span></span></span></span></span></span></span></span></span></span></span></span></p>

<p><strong><span><span><span><span><span><span><span><span><span><span><span><span><span><span><span><span><span><span><span><span>Evento sin costo. Cupo limitado.</span></span></span></span></span></span></span></span></span></span></span></span></span></span></span></span></span></span></span></span></strong></p>

<p><span><span><span><span><span><span><span><span><span><span><span><span><span><span><span><span><span><span><span><span><strong>Regístrate</strong> <a href=" https://bit.ly/GrafologiaPIE">aquí</a>. </span></span></span></span></span></span></span></span></span></span></span></span></span></span></span></span></span></span></span></span></p>

END:VEVENT
END:VCALENDAR