BEGIN:VCALENDAR
VERSION:2.0
PRODID:Evento - TEC
BEGIN:VEVENT
UID:102476
DTSTAMP:20260424T102034Z
DTSTART:20210617T030000Z
DTEND:20210918T025959Z
SUMMARY:HEINEKEN Green Challenge 2021
LOCATION:
DESCRIPTION:<p><strong>HEINEKEN Green Challenge</strong> es una<strong>&nbsp;iniciativa</strong>&nbsp;impulsada por HEINEKEN México e<a href="https://www.incmty.com/"> </a><strong><a href="https://www.incmty.com/">INCmty, el festival de emprendimiento</a> del Tec de Monterrey,&nbsp;</strong>que busca&nbsp;<strong>reunir a las mentes más creativas</strong>&nbsp;que buscan soluciones innovadoras basadas en los principios de la&nbsp;<strong>agricultura sustentable.</strong></p>

<p><strong>Participa </strong>en este reto en línea.</p>

<p><strong>Conoce más <a href="https://heineken.incmty.com/ ">aquí</a>.</strong></p>

END:VEVENT
END:VCALENDAR