BEGIN:VCALENDAR
VERSION:2.0
PRODID:Evento - TEC
BEGIN:VEVENT
UID:101751
DTSTAMP:20260424T102034Z
DTSTART:20210717T140000Z
DTEND:20210717T153000Z
SUMMARY:Vive un safari en Sudáfrica sin salir de casa | Recorrido virtual
LOCATION:Tour virtual
DESCRIPTION:<p><span><span><span><span><span><span><span><span><span><span><span><span><span><span><span><span><span><span><span>¡Acompáñanos a un&nbsp;<strong><em>tour&nbsp;</em>virtual </strong>donde un guía experto interpretará los increíbles avistamientos, de un safari en Sudáfrica!</span></span></span></span></span></span></span></span></span></span></span></span></span></span></span></span></span></span></span></p>

<p><span><span><span><span><span><span><span><span><span><span><span><span><span><span><span><span><span><span><span>Vive una <strong>experiencia inigualable</strong> de contacto con la naturaleza en una experiencia inmersiva con rinocerontes, antílopes, leones, elefantes y más.&nbsp;</span></span></span></span></span></span></span></span></span></span></span></span></span></span></span></span></span></span></span><br />
&nbsp;</p>

<p><span><span><span><span><span><span><span><span><span><span><span><span><span><span><span><span><span><span><span>- Evento&nbsp;para toda la familia.</span></span></span></span></span></span></span></span></span></span></span></span></span></span></span></span></span></span></span></p>

<p><span><span><span><span><span><span><span><span><span><span><span><span><span><span><span><span><span><span><span>-&nbsp;Traducción simultánea al español.</span></span></span></span></span></span></span></span></span></span></span></span></span></span></span></span></span></span></span></p>

<p><br />
<span><span><span><span><span><span><span><span><span><span><span><span><span><span><span><span><span><span><span>Evento gratuito. Cupo limitado.</span></span></span></span></span></span></span></span></span></span></span></span></span></span></span></span></span></span></span></p>

<p><br />
Regístrate <a href="https://docs.google.com/forms/d/e/1FAIpQLScOefmmCJ_G5HDxH-K-W49dkOSTvaoe5GQyXyPGkjb0P3CCAg/viewform">aquí</a>.</p>

<p>&nbsp;</p>

END:VEVENT
END:VCALENDAR