BEGIN:VCALENDAR
VERSION:2.0
PRODID:Evento - TEC
BEGIN:VEVENT
UID:100806
DTSTAMP:20260424T102031Z
DTSTART:20210616T030000Z
DTEND:20210617T025900Z
SUMMARY:Inscríbete a la eCopa Tecmilenio 
LOCATION:
DESCRIPTION:<p><span><span>La <strong>eCopa Tecmilenio: La revancha&nbsp;</strong>es un torneo competitivo de <strong>Fortnite </strong>en formato de tríos para&nbsp; jóvenes de 14 a 30 años.</span></span></p>

<p><span><span><span>Hay premios de&nbsp;30 mil; 20 mil&nbsp;y 10 mil&nbsp;pesos en dinero electrónico para los ganadores.</span></span></span></p>

<p><span><span>Es una competencia abierta tanto para alumnos Tecmilenio como público externo.</span></span></p>

<p><br />
<span><span><strong>Inscripciones:</strong> 1 al 16 de junio del 2021</span></span></p>

<p><span><span><strong>Competencias: </strong>21 de junio al 11 de julio.</span></span></p>

<p><span><span>Transmisiones: 9, 10 y 11 de julio</span></span></p>

<p>Más información <a href="https://esports.tecmilenio.mx/ecopa">aquí</a>.</p>

END:VEVENT
END:VCALENDAR