BEGIN:VCALENDAR
VERSION:2.0
PRODID:Evento - TEC
BEGIN:VEVENT
UID:100791
DTSTAMP:20260424T102031Z
DTSTART:20210625T211500Z
DTEND:20210625T233000Z
SUMMARY:Tec Forever
LOCATION:
DESCRIPTION:<p><span><span><span>Este 25 de junio&nbsp;celebremos con nuestros más de 5 mil 700 estudiantes que se gradúan de todos los campus del <strong>Tecnológico de Monterrey, </strong>este logro tan importante en su vida. </span></span></span></p>

<p>Únete a <strong>#TecForever;</strong> la ceremonia digital de fin de cursos de la generación 2021 del Tecnológico de Monterrey.</p>

<p>Este evento es sin costo y online por https://live.tec.mx</p>

<p>&nbsp;</p>

<p>&nbsp;</p>

END:VEVENT
END:VCALENDAR