BEGIN:VCALENDAR
VERSION:2.0
PRODID:Evento - TEC
BEGIN:VEVENT
UID:100741
DTSTAMP:20260424T085722Z
DTSTART:20210615T150000Z
DTEND:20210615T160000Z
SUMMARY:Ser madre y mujer | Conferencia en línea
LOCATION:
DESCRIPTION:<p>Comparte con&nbsp;<strong>Gabriela Salinas (IIS'09)</strong>&nbsp;un espacio de reflexión sobre&nbsp;<strong>reconectar con tu esencia</strong>&nbsp;femenina dentro de tu&nbsp;<strong>rol como mamá.</strong></p>

<p><a href="https://docs.google.com/forms/d/e/1FAIpQLSfmEG7x7_zpH1_fKavR7pS39s6PMWM5exE2NSs4xOJOUdQO6Q/viewform"><strong>Regístrate aquí</strong></a></p>

<h3>&nbsp;</h3>

END:VEVENT
END:VCALENDAR